BEGIN:VCALENDAR
VERSION:2.0
PRODID:-//wp-events-plugin.com//7.2.3.1//EN
TZID:Europe/Paris
X-WR-TIMEZONE:Europe/Paris
BEGIN:VEVENT
UID:90@assembleedesluttes85.fr
DTSTART;TZID=Europe/Paris:20260425T190000
DTEND;TZID=Europe/Paris:20260425T223000
DTSTAMP:20260407T091614Z
URL:https://www.assembleedesluttes85.fr/evenements/25-04-concert-punk-meta
 l-en-soutien-au-groupe-hl/
SUMMARY:25-04 : Concert punk-métal en soutien au groupe HL
DESCRIPTION:Concert de soutien au groupe HL
ATTACH;FMTTYPE=image/jpeg:https://www.assembleedesluttes85.fr/wp-content/u
 ploads/2026/04/Concert-1.jpg
CATEGORIES:Festival / Fête
LOCATION:Brouhaha\, 1 Chemin du Grand Verger\, 85280 La Ferrière\,  La Fer
 rière\, Vendée\, 85280\, France
X-APPLE-STRUCTURED-LOCATION;VALUE=URI;X-ADDRESS=1 Chemin du Grand Verger\, 
 85280 La Ferrière\,  La Ferrière\, Vendée\, 85280\, France;X-APPLE-RADI
 US=100;X-TITLE=Brouhaha:geo:0,0
END:VEVENT
BEGIN:VTIMEZONE
TZID:Europe/Paris
X-LIC-LOCATION:Europe/Paris
BEGIN:DAYLIGHT
DTSTART:20260329T030000
TZOFFSETFROM:+0100
TZOFFSETTO:+0200
TZNAME:CEST
END:DAYLIGHT
END:VTIMEZONE
END:VCALENDAR